BEGIN:VCALENDAR
VERSION:2.0
PRODID:-//hacksw/handcal//NONSGML v1.0//EN
BEGIN:VEVENT
SUMMARY:Bal interclubs a SENS
UID:6237cb79-d73e-4200-be52-28c6d5d938e0
DTSTART:20260619T180000Z
DTEND:20260619T214500Z
LOCATION:Localisation   
CATEGORIES:Entrainement
STATUS:
URL;VALUE=URI:https://countryclubdevaudeurs.sportsregions.fr/evenements/2026/06/19/bal-interclubs-a-sens-2438138
END:VEVENT
END:VCALENDAR
